BEGIN:VCALENDAR
VERSION:2.0
PRODID:-//Verein Deutsche Sprache e. V. - ECPv6.15.20//NONSGML v1.0//EN
CALSCALE:GREGORIAN
METHOD:PUBLISH
X-ORIGINAL-URL:https://vds-ev.de
X-WR-CALDESC:Veranstaltungen für Verein Deutsche Sprache e. V.
REFRESH-INTERVAL;VALUE=DURATION:PT1H
X-Robots-Tag:noindex
X-PUBLISHED-TTL:PT1H
BEGIN:VTIMEZONE
TZID:Europe/Berlin
BEGIN:DAYLIGHT
TZOFFSETFROM:+0100
TZOFFSETTO:+0200
TZNAME:CEST
DTSTART:20250330T010000
END:DAYLIGHT
BEGIN:STANDARD
TZOFFSETFROM:+0200
TZOFFSETTO:+0100
TZNAME:CET
DTSTART:20251026T010000
END:STANDARD
BEGIN:DAYLIGHT
TZOFFSETFROM:+0100
TZOFFSETTO:+0200
TZNAME:CEST
DTSTART:20260329T010000
END:DAYLIGHT
BEGIN:STANDARD
TZOFFSETFROM:+0200
TZOFFSETTO:+0100
TZNAME:CET
DTSTART:20261025T010000
END:STANDARD
BEGIN:DAYLIGHT
TZOFFSETFROM:+0100
TZOFFSETTO:+0200
TZNAME:CEST
DTSTART:20270328T010000
END:DAYLIGHT
BEGIN:STANDARD
TZOFFSETFROM:+0200
TZOFFSETTO:+0100
TZNAME:CET
DTSTART:20271031T010000
END:STANDARD
END:VTIMEZONE
BEGIN:VEVENT
DTSTART;TZID=Europe/Berlin:20260324T183000
DTEND;TZID=Europe/Berlin:20260324T183000
DTSTAMP:20260420T230305
CREATED:20260313T073958Z
LAST-MODIFIED:20260313T073959Z
UID:62475-1774377000-1774377000@vds-ev.de
SUMMARY:Region 35 (Mittelhessen)
DESCRIPTION:Mitgliedertreffen mit Wahl der Regionalleitung und Vortrag von Rigo Ryll Neues aus der Vereinsarbeit \n\n\n\nOrt: Altes Eishaus Hotel & Restaurant\, Raum 3\, Wißmarer Weg 45\, 35396 Gießen
URL:https://vds-ev.de/termine/region-35-mittelhessen/
CATEGORIES:Mitgliedertreffen
END:VEVENT
BEGIN:VEVENT
DTSTART;TZID=Europe/Berlin:20260324T190000
DTEND;TZID=Europe/Berlin:20260324T190000
DTSTAMP:20260420T230305
CREATED:20260310T132034Z
LAST-MODIFIED:20260310T132035Z
UID:62449-1774378800-1774378800@vds-ev.de
SUMMARY:Region 52 (Aachen)
DESCRIPTION:Mitgliedertreffen
URL:https://vds-ev.de/termine/region-52-aachen/
LOCATION:Bildungszentrum BGE der Handwerkskammer Aachen\, Tempelhofer Str. 15-17\, Aachen\, 52068\, Deutschland
CATEGORIES:Mitgliedertreffen
END:VEVENT
END:VCALENDAR