BEGIN:VCALENDAR
VERSION:2.0
PRODID:-//Verein Deutsche Sprache e. V. - ECPv6.15.20//NONSGML v1.0//EN
CALSCALE:GREGORIAN
METHOD:PUBLISH
X-ORIGINAL-URL:https://vds-ev.de
X-WR-CALDESC:Veranstaltungen für Verein Deutsche Sprache e. V.
REFRESH-INTERVAL;VALUE=DURATION:PT1H
X-Robots-Tag:noindex
X-PUBLISHED-TTL:PT1H
BEGIN:VTIMEZONE
TZID:Europe/Berlin
BEGIN:DAYLIGHT
TZOFFSETFROM:+0100
TZOFFSETTO:+0200
TZNAME:CEST
DTSTART:20250330T010000
END:DAYLIGHT
BEGIN:STANDARD
TZOFFSETFROM:+0200
TZOFFSETTO:+0100
TZNAME:CET
DTSTART:20251026T010000
END:STANDARD
BEGIN:DAYLIGHT
TZOFFSETFROM:+0100
TZOFFSETTO:+0200
TZNAME:CEST
DTSTART:20260329T010000
END:DAYLIGHT
BEGIN:STANDARD
TZOFFSETFROM:+0200
TZOFFSETTO:+0100
TZNAME:CET
DTSTART:20261025T010000
END:STANDARD
BEGIN:DAYLIGHT
TZOFFSETFROM:+0100
TZOFFSETTO:+0200
TZNAME:CEST
DTSTART:20270328T010000
END:DAYLIGHT
BEGIN:STANDARD
TZOFFSETFROM:+0200
TZOFFSETTO:+0100
TZNAME:CET
DTSTART:20271031T010000
END:STANDARD
END:VTIMEZONE
BEGIN:VEVENT
DTSTART;TZID=Europe/Berlin:20260326T180000
DTEND;TZID=Europe/Berlin:20260326T180000
DTSTAMP:20260420T212419
CREATED:20260113T113843Z
LAST-MODIFIED:20260129T132533Z
UID:61682-1774548000-1774548000@vds-ev.de
SUMMARY:Region 03 (Cottbus)
DESCRIPTION:Mitgliedertreffen mit Wahl der Regionalleitung
URL:https://vds-ev.de/termine/region-03-cottbus/
LOCATION:CITY HOTEL Cottbus\, Rudolf-Breitscheid-Str. 10\, Cottbus\, 03046\, Deutschland
CATEGORIES:Mitgliedertreffen
END:VEVENT
BEGIN:VEVENT
DTSTART;TZID=Europe/Berlin:20260326T180000
DTEND;TZID=Europe/Berlin:20260326T180000
DTSTAMP:20260420T212419
CREATED:20260311T124158Z
LAST-MODIFIED:20260311T124159Z
UID:62462-1774548000-1774548000@vds-ev.de
SUMMARY:Region 59 (Hamm\, Unna\, Arnsberg)
DESCRIPTION:Sprach-Quiz (Spieleabend rund um die deutsche Sprache)
URL:https://vds-ev.de/termine/region-59-hamm-unna-arnsberg/
LOCATION:VDS-Geschäftsstelle / Sprachhof\, Hohes Feld 6\, Kamen\, 59174
END:VEVENT
END:VCALENDAR