BEGIN:VCALENDAR
VERSION:2.0
PRODID:-//Verein Deutsche Sprache e. V. - ECPv6.15.20//NONSGML v1.0//EN
CALSCALE:GREGORIAN
METHOD:PUBLISH
X-WR-CALNAME:Verein Deutsche Sprache e. V.
X-ORIGINAL-URL:https://vds-ev.de
X-WR-CALDESC:Veranstaltungen für Verein Deutsche Sprache e. V.
REFRESH-INTERVAL;VALUE=DURATION:PT1H
X-Robots-Tag:noindex
X-PUBLISHED-TTL:PT1H
BEGIN:VTIMEZONE
TZID:Europe/Berlin
BEGIN:DAYLIGHT
TZOFFSETFROM:+0100
TZOFFSETTO:+0200
TZNAME:CEST
DTSTART:20250330T010000
END:DAYLIGHT
BEGIN:STANDARD
TZOFFSETFROM:+0200
TZOFFSETTO:+0100
TZNAME:CET
DTSTART:20251026T010000
END:STANDARD
BEGIN:DAYLIGHT
TZOFFSETFROM:+0100
TZOFFSETTO:+0200
TZNAME:CEST
DTSTART:20260329T010000
END:DAYLIGHT
BEGIN:STANDARD
TZOFFSETFROM:+0200
TZOFFSETTO:+0100
TZNAME:CET
DTSTART:20261025T010000
END:STANDARD
BEGIN:DAYLIGHT
TZOFFSETFROM:+0100
TZOFFSETTO:+0200
TZNAME:CEST
DTSTART:20270328T010000
END:DAYLIGHT
BEGIN:STANDARD
TZOFFSETFROM:+0200
TZOFFSETTO:+0100
TZNAME:CET
DTSTART:20271031T010000
END:STANDARD
END:VTIMEZONE
BEGIN:VEVENT
DTSTART;TZID=Europe/Berlin:20260328T103000
DTEND;TZID=Europe/Berlin:20260328T103000
DTSTAMP:20260420T210552
CREATED:20260320T112600Z
LAST-MODIFIED:20260320T112601Z
UID:62540-1774693800-1774693800@vds-ev.de
SUMMARY:Region 06/39 (Halle/Magdeburg)
DESCRIPTION:Mitgliedertreffen mit gemeinsamen Mittagessen und Führung durch das historische Goethe-Theater und das Neue Schillerhaus \n\n\n\nOrt: Hotel Lindenhof\, Lindenstr. 21\, 06246 Bad Lauchstädt
URL:https://vds-ev.de/termine/region-06-39-halle-magdeburg/
CATEGORIES:Mitgliedertreffen
END:VEVENT
END:VCALENDAR