BEGIN:VCALENDAR
VERSION:2.0
PRODID:-//Verein Deutsche Sprache e. V. - ECPv6.15.20//NONSGML v1.0//EN
CALSCALE:GREGORIAN
METHOD:PUBLISH
X-ORIGINAL-URL:https://vds-ev.de
X-WR-CALDESC:Veranstaltungen für Verein Deutsche Sprache e. V.
REFRESH-INTERVAL;VALUE=DURATION:PT1H
X-Robots-Tag:noindex
X-PUBLISHED-TTL:PT1H
BEGIN:VTIMEZONE
TZID:Europe/Berlin
BEGIN:DAYLIGHT
TZOFFSETFROM:+0100
TZOFFSETTO:+0200
TZNAME:CEST
DTSTART:20250330T010000
END:DAYLIGHT
BEGIN:STANDARD
TZOFFSETFROM:+0200
TZOFFSETTO:+0100
TZNAME:CET
DTSTART:20251026T010000
END:STANDARD
BEGIN:DAYLIGHT
TZOFFSETFROM:+0100
TZOFFSETTO:+0200
TZNAME:CEST
DTSTART:20260329T010000
END:DAYLIGHT
BEGIN:STANDARD
TZOFFSETFROM:+0200
TZOFFSETTO:+0100
TZNAME:CET
DTSTART:20261025T010000
END:STANDARD
BEGIN:DAYLIGHT
TZOFFSETFROM:+0100
TZOFFSETTO:+0200
TZNAME:CEST
DTSTART:20270328T010000
END:DAYLIGHT
BEGIN:STANDARD
TZOFFSETFROM:+0200
TZOFFSETTO:+0100
TZNAME:CET
DTSTART:20271031T010000
END:STANDARD
END:VTIMEZONE
BEGIN:VEVENT
DTSTART;TZID=Europe/Berlin:20260528T000000
DTEND;TZID=Europe/Berlin:20260530T235959
DTSTAMP:20260420T211946
CREATED:20251024T111110Z
LAST-MODIFIED:20251024T111139Z
UID:60998-1779926400-1780185599@vds-ev.de
SUMMARY:Region Wien (Österreich)
DESCRIPTION:Deutsche Sprachtage 2026 in Wien \n\n\n\nWeitere Infos: vds-ev.de
URL:https://vds-ev.de/termine/region-wien-oesterreich/
CATEGORIES:Deutsche Sprachtage
END:VEVENT
END:VCALENDAR