BEGIN:VCALENDAR
VERSION:2.0
PRODID:-//Verein Deutsche Sprache e. V. - ECPv6.1.2.2//NONSGML v1.0//EN
CALSCALE:GREGORIAN
METHOD:PUBLISH
X-WR-CALNAME:Verein Deutsche Sprache e. V.
X-ORIGINAL-URL:https://vds-ev.de
X-WR-CALDESC:Veranstaltungen für Verein Deutsche Sprache e. V.
REFRESH-INTERVAL;VALUE=DURATION:PT1H
X-Robots-Tag:noindex
X-PUBLISHED-TTL:PT1H
BEGIN:VTIMEZONE
TZID:Europe/Berlin
BEGIN:DAYLIGHT
TZOFFSETFROM:+0100
TZOFFSETTO:+0200
TZNAME:CEST
DTSTART:20230326T010000
END:DAYLIGHT
BEGIN:STANDARD
TZOFFSETFROM:+0200
TZOFFSETTO:+0100
TZNAME:CET
DTSTART:20231029T010000
END:STANDARD
END:VTIMEZONE
BEGIN:VEVENT
DTSTART;TZID=Europe/Berlin:20230727T180000
DTEND;TZID=Europe/Berlin:20230727T180000
DTSTAMP:20230719T190130
CREATED:20230718T094120Z
LAST-MODIFIED:20230718T094121Z
UID:47457-1690480800-1690480800@vds-ev.de
SUMMARY:Region 97 (Würzburg)
DESCRIPTION:Mitgliedertreffen
URL:https://vds-ev.de/termine/region-97-wuerzburg/
LOCATION:Gaststätte Am Stift Haug\, Textorstraße 24\, Würzburg\, 97070\, Deutschland
CATEGORIES:Mitgliedertreffen
END:VEVENT
BEGIN:VEVENT
DTSTART;TZID=Europe/Berlin:20230729T150000
DTEND;TZID=Europe/Berlin:20230729T180000
DTSTAMP:20230719T190130
CREATED:20230710T155231Z
LAST-MODIFIED:20230710T155556Z
UID:47359-1690642800-1690653600@vds-ev.de
SUMMARY:Region 24 (Kiel\, Flensburg)
DESCRIPTION:Mitgliedertreffen\, Ideensammlung für eine Volksinitiative gegen das  Gendern in Schleswig-Holstein \n\n\n\nAnmeldung erbeten unter thorsten_fromberg@web.de.
URL:https://vds-ev.de/termine/region-24-kiel-flensburg/
LOCATION:Hofcafé Gut Deutsch-Nienhof\, Deutsch-Nienhof\, Westensee\, 24259\, Deutschland
CATEGORIES:Mitgliedertreffen
END:VEVENT
BEGIN:VEVENT
DTSTART;TZID=Europe/Berlin:20230803T190000
DTEND;TZID=Europe/Berlin:20230803T190000
DTSTAMP:20230719T190130
CREATED:20230530T101021Z
LAST-MODIFIED:20230530T101021Z
UID:46673-1691089200-1691089200@vds-ev.de
SUMMARY:Region 41/47 (Mönchengladbach\, Neuss\, Viersen/Duisburg\, Moers\, Krefeld)
DESCRIPTION:Mitgliedertreffen \n\n\n\nAnmeldung bei Ralf Wambach (ralf.wambach@gmx.de) erforderlich.
URL:https://vds-ev.de/termine/region-41-47-moenchengladbach-neuss-viersen-duisburg-moers-krefeld-3/
LOCATION:Restaurant Weisses Haus\, Michaelstr. 65\, Neuss\, 41460\, Deutschland
CATEGORIES:Mitgliedertreffen
END:VEVENT
BEGIN:VEVENT
DTSTART;TZID=Europe/Berlin:20230804T183000
DTEND;TZID=Europe/Berlin:20230804T183000
DTSTAMP:20230719T190130
CREATED:20230621T112553Z
LAST-MODIFIED:20230621T112623Z
UID:47038-1691173800-1691173800@vds-ev.de
SUMMARY:Region 30\, 31 (Hannover\, Nienburg\, Wunstorf\, Hildesheim\, Stadthagen\, Hameln\, Peine)
DESCRIPTION:Mitgliedertreffen
URL:https://vds-ev.de/termine/region-30-31-hannover-nienburg-wunstorf-hildesheim-stadthagen-hameln-peine/
LOCATION:Gaststätte Konstantinos\, Hildesheimer Str. 49\, Laatzen\, 30880\, Deutschland
CATEGORIES:Mitgliedertreffen
END:VEVENT
BEGIN:VEVENT
DTSTART;TZID=Europe/Berlin:20230810T180000
DTEND;TZID=Europe/Berlin:20230810T180000
DTSTAMP:20230719T190130
CREATED:20230703T121012Z
LAST-MODIFIED:20230703T121013Z
UID:47267-1691690400-1691690400@vds-ev.de
SUMMARY:Region 18 (Rostock)
DESCRIPTION:Mitgliedertreffen
URL:https://vds-ev.de/termine/region-18-rostock/
LOCATION:Gasthaus „Zum Bauernhaus Biestow“\, Am Dorfteich 16\, Rostock\, 18059\, Deutschland
CATEGORIES:Mitgliedertreffen
END:VEVENT
END:VCALENDAR